BEGIN:VCALENDAR
VERSION:2.0
PRODID:-//GEAA - ECPv6.15.20//NONSGML v1.0//EN
CALSCALE:GREGORIAN
METHOD:PUBLISH
X-WR-CALNAME:GEAA
X-ORIGINAL-URL:http://www.powercompanyques.com
X-WR-CALDESC:Events for GEAA
REFRESH-INTERVAL;VALUE=DURATION:PT1H
X-Robots-Tag:noindex
X-PUBLISHED-TTL:PT1H
BEGIN:VTIMEZONE
TZID:UTC
BEGIN:STANDARD
TZOFFSETFROM:+0000
TZOFFSETTO:+0000
TZNAME:UTC
DTSTART:20220101T000000
END:STANDARD
END:VTIMEZONE
BEGIN:VEVENT
DTSTART;TZID=UTC:20231031T200000
DTEND;TZID=UTC:20231031T220000
DTSTAMP:20260419T130608
CREATED:20230108T231458Z
LAST-MODIFIED:20230108T231858Z
UID:666-1698782400-1698789600@www.powercompanyques.com
SUMMARY:GE Alumni Association General Body Meeting
DESCRIPTION:
URL:http://www.powercompanyques.com/event/ge-alumni-association-general-body-meeting-4
LOCATION:Virtual
CATEGORIES:GEAA General Body Meeting
END:VEVENT
BEGIN:VEVENT
DTSTART;VALUE=DATE:20231028
DTEND;VALUE=DATE:20231029
DTSTAMP:20260419T130608
CREATED:20230111T132500Z
LAST-MODIFIED:20230111T132500Z
UID:690-1698451200-1698537599@www.powercompanyques.com
SUMMARY:Hampton University Homecoming
DESCRIPTION:
URL:http://www.powercompanyques.com/event/hampton-university-homecoming
LOCATION:Hampton University\, Hampton\, VA\, 23669\, United States
CATEGORIES:Hampton University
END:VEVENT
BEGIN:VEVENT
DTSTART;TZID=UTC:20231010T200000
DTEND;TZID=UTC:20231010T220000
DTSTAMP:20260419T130608
CREATED:20230106T150051Z
LAST-MODIFIED:20230106T151020Z
UID:545-1696968000-1696975200@www.powercompanyques.com
SUMMARY:GE Executive Council Meeting (Chairs)
DESCRIPTION:
URL:http://www.powercompanyques.com/event/ge-executive-council-meeting-chairs-4
LOCATION:VA
CATEGORIES:Executive Council Meeting
END:VEVENT
BEGIN:VEVENT
DTSTART;TZID=UTC:20230725T200000
DTEND;TZID=UTC:20230725T220000
DTSTAMP:20260419T130608
CREATED:20230108T231412Z
LAST-MODIFIED:20230108T231412Z
UID:664-1690315200-1690322400@www.powercompanyques.com
SUMMARY:GE Alumni Association General Body Meeting
DESCRIPTION:
URL:http://www.powercompanyques.com/event/ge-alumni-association-general-body-meeting-3
LOCATION:Virtual
CATEGORIES:GEAA General Body Meeting
END:VEVENT
BEGIN:VEVENT
DTSTART;TZID=UTC:20230711T200000
DTEND;TZID=UTC:20230711T220000
DTSTAMP:20260419T130608
CREATED:20230106T145859Z
LAST-MODIFIED:20230106T145859Z
UID:543-1689105600-1689112800@www.powercompanyques.com
SUMMARY:GE Executive Council Meeting (Chairs)
DESCRIPTION:
URL:http://www.powercompanyques.com/event/ge-executive-council-meeting-chairs-3
LOCATION:VA
CATEGORIES:Executive Council Meeting
END:VEVENT
BEGIN:VEVENT
DTSTART;VALUE=DATE:20230514
DTEND;VALUE=DATE:20230515
DTSTAMP:20260419T130608
CREATED:20230108T232104Z
LAST-MODIFIED:20230108T232104Z
UID:668-1684022400-1684108799@www.powercompanyques.com
SUMMARY:Hampton University Graduation
DESCRIPTION:
URL:http://www.powercompanyques.com/event/hampton-university-graduation
LOCATION:VA
CATEGORIES:Hampton University
END:VEVENT
BEGIN:VEVENT
DTSTART;TZID=UTC:20230425T200000
DTEND;TZID=UTC:20230425T220000
DTSTAMP:20260419T130608
CREATED:20230108T231320Z
LAST-MODIFIED:20230108T231320Z
UID:662-1682452800-1682460000@www.powercompanyques.com
SUMMARY:GE Alumni Association General Body Meeting
DESCRIPTION:
URL:http://www.powercompanyques.com/event/ge-alumni-association-general-body-meeting-2
LOCATION:Virtual
CATEGORIES:GEAA General Body Meeting
END:VEVENT
BEGIN:VEVENT
DTSTART;TZID=UTC:20230411T200000
DTEND;TZID=UTC:20230411T220000
DTSTAMP:20260419T130608
CREATED:20230106T145732Z
LAST-MODIFIED:20230106T145732Z
UID:541-1681243200-1681250400@www.powercompanyques.com
SUMMARY:GE Executive Council Meeting (Chairs)
DESCRIPTION:
URL:http://www.powercompanyques.com/event/ge-executive-council-meeting-chairs-2
LOCATION:VA
CATEGORIES:Executive Council Meeting
END:VEVENT
BEGIN:VEVENT
DTSTART;VALUE=DATE:20230210
DTEND;VALUE=DATE:20230213
DTSTAMP:20260419T130608
CREATED:20230103T225716Z
LAST-MODIFIED:20230103T225716Z
UID:170-1675987200-1676246399@www.powercompanyques.com
SUMMARY:2023 GE Summit
DESCRIPTION:To close out Gamma Epsilon’s 75th Anniversary year\, we will be hosting an Undergraduate Summit in Hampton\, VA during our birthday weekend\, February 10-12\, 2023. The purpose of this summit is to teach chapter traditions & business\, network\, fellowship\, & continue to bridge the gap between young & older brothers.
URL:http://www.powercompanyques.com/event/2023-ge-summit
LOCATION:Hampton University\, Hampton\, VA\, 23669\, United States
CATEGORIES:Summit
ATTACH;FMTTYPE=image/png:http://www.powercompanyques.com/wp-content/uploads/2023/01/January-Message_123022.png
ORGANIZER;CN="Doug Martin (6-GE-2016)":MAILTO:douglasmartin121@yahoo.com
END:VEVENT
BEGIN:VEVENT
DTSTART;TZID=UTC:20230131T200000
DTEND;TZID=UTC:20230131T200000
DTSTAMP:20260419T130608
CREATED:20230108T231210Z
LAST-MODIFIED:20230108T231210Z
UID:659-1675195200-1675195200@www.powercompanyques.com
SUMMARY:GE Alumni Association General Body Meeting
DESCRIPTION:
URL:http://www.powercompanyques.com/event/ge-alumni-association-general-body-meeting
LOCATION:Virtual
CATEGORIES:GEAA General Body Meeting
END:VEVENT
BEGIN:VEVENT
DTSTART;TZID=UTC:20230110T200000
DTEND;TZID=UTC:20230110T220000
DTSTAMP:20260419T130609
CREATED:20230106T145326Z
LAST-MODIFIED:20230106T145326Z
UID:538-1673380800-1673388000@www.powercompanyques.com
SUMMARY:GE Executive Council Meeting (Chairs)
DESCRIPTION:
URL:http://www.powercompanyques.com/event/ge-executive-council-meeting-chairs
LOCATION:VA
CATEGORIES:Executive Council Meeting
END:VEVENT
END:VCALENDAR